BEGIN:VCALENDAR
VERSION:2.0
PRODID:-//Connecticut Theatre Company - ECPv6.15.17.1//NONSGML v1.0//EN
CALSCALE:GREGORIAN
METHOD:PUBLISH
X-WR-CALNAME:Connecticut Theatre Company
X-ORIGINAL-URL:https://www.connecticuttheatrecompany.org
X-WR-CALDESC:Events for Connecticut Theatre Company
REFRESH-INTERVAL;VALUE=DURATION:PT1H
X-Robots-Tag:noindex
X-PUBLISHED-TTL:PT1H
BEGIN:VTIMEZONE
TZID:America/New_York
BEGIN:DAYLIGHT
TZOFFSETFROM:-0500
TZOFFSETTO:-0400
TZNAME:EDT
DTSTART:20250309T070000
END:DAYLIGHT
BEGIN:STANDARD
TZOFFSETFROM:-0400
TZOFFSETTO:-0500
TZNAME:EST
DTSTART:20251102T060000
END:STANDARD
BEGIN:DAYLIGHT
TZOFFSETFROM:-0500
TZOFFSETTO:-0400
TZNAME:EDT
DTSTART:20260308T070000
END:DAYLIGHT
BEGIN:STANDARD
TZOFFSETFROM:-0400
TZOFFSETTO:-0500
TZNAME:EST
DTSTART:20261101T060000
END:STANDARD
BEGIN:DAYLIGHT
TZOFFSETFROM:-0500
TZOFFSETTO:-0400
TZNAME:EDT
DTSTART:20270314T070000
END:DAYLIGHT
BEGIN:STANDARD
TZOFFSETFROM:-0400
TZOFFSETTO:-0500
TZNAME:EST
DTSTART:20271107T060000
END:STANDARD
END:VTIMEZONE
BEGIN:VEVENT
DTSTART;TZID=America/New_York:20260320T190000
DTEND;TZID=America/New_York:20260320T213000
DTSTAMP:20260425T111006
CREATED:20251224T182835Z
LAST-MODIFIED:20251224T182835Z
UID:6122-1774033200-1774042200@www.connecticuttheatrecompany.org
SUMMARY:Sordid Lives
DESCRIPTION:Get ready for a hilariously chaotic dive into small-town Southern life with Sordid Lives\, the award-winning “black comedy about white trash” by Del Shores. When Peggy\, the family matriarch\, meets her untimely demise in a freak accident\, her dysfunctional Texas family is forced to reunite for her funeral. What follows is a sidesplitting\, heartwarming\, and sometimes outrageous exploration of love\, acceptance\, and forgiveness. \nWith a colorful cast of characters—including a Tammy Wynette-obsessed drag queen\, a Bible-thumping mother\, and a barfly who’s seen it all—Sordid Lives serves up equal parts humor and humanity. Beneath the campy antics and outrageous situations lies a touching story about embracing who you truly are\, no matter what the neighbors might say. \nA cult classic with universal appeal\, Sordid Lives promises an unforgettable evening of laughter\, tears\, and Southern charm. \nContains strong adult themes and language.
URL:https://www.connecticuttheatrecompany.org/event/sordid-lives-4/
LOCATION:The Repertory Theatre\, 23 Norden Street\, New Britain\, CT\, 06052\, United States
CATEGORIES:Play
ATTACH;FMTTYPE=image/png:https://www.connecticuttheatrecompany.org/wp-content/uploads/2025/10/Sordid-Lives-Logo.png
END:VEVENT
BEGIN:VEVENT
DTSTART;TZID=America/New_York:20260321T190000
DTEND;TZID=America/New_York:20260321T213000
DTSTAMP:20260425T111006
CREATED:20251224T182914Z
LAST-MODIFIED:20251224T182914Z
UID:6124-1774119600-1774128600@www.connecticuttheatrecompany.org
SUMMARY:Sordid Lives
DESCRIPTION:Get ready for a hilariously chaotic dive into small-town Southern life with Sordid Lives\, the award-winning “black comedy about white trash” by Del Shores. When Peggy\, the family matriarch\, meets her untimely demise in a freak accident\, her dysfunctional Texas family is forced to reunite for her funeral. What follows is a sidesplitting\, heartwarming\, and sometimes outrageous exploration of love\, acceptance\, and forgiveness. \nWith a colorful cast of characters—including a Tammy Wynette-obsessed drag queen\, a Bible-thumping mother\, and a barfly who’s seen it all—Sordid Lives serves up equal parts humor and humanity. Beneath the campy antics and outrageous situations lies a touching story about embracing who you truly are\, no matter what the neighbors might say. \nA cult classic with universal appeal\, Sordid Lives promises an unforgettable evening of laughter\, tears\, and Southern charm. \nContains strong adult themes and language.
URL:https://www.connecticuttheatrecompany.org/event/sordid-lives-5/
LOCATION:The Repertory Theatre\, 23 Norden Street\, New Britain\, CT\, 06052\, United States
CATEGORIES:Play
ATTACH;FMTTYPE=image/png:https://www.connecticuttheatrecompany.org/wp-content/uploads/2025/10/Sordid-Lives-Logo.png
END:VEVENT
BEGIN:VEVENT
DTSTART;TZID=America/New_York:20260322T140000
DTEND;TZID=America/New_York:20260322T163000
DTSTAMP:20260425T111006
CREATED:20251224T182959Z
LAST-MODIFIED:20251224T182959Z
UID:6126-1774188000-1774197000@www.connecticuttheatrecompany.org
SUMMARY:Sordid Lives
DESCRIPTION:Get ready for a hilariously chaotic dive into small-town Southern life with Sordid Lives\, the award-winning “black comedy about white trash” by Del Shores. When Peggy\, the family matriarch\, meets her untimely demise in a freak accident\, her dysfunctional Texas family is forced to reunite for her funeral. What follows is a sidesplitting\, heartwarming\, and sometimes outrageous exploration of love\, acceptance\, and forgiveness. \nWith a colorful cast of characters—including a Tammy Wynette-obsessed drag queen\, a Bible-thumping mother\, and a barfly who’s seen it all—Sordid Lives serves up equal parts humor and humanity. Beneath the campy antics and outrageous situations lies a touching story about embracing who you truly are\, no matter what the neighbors might say. \nA cult classic with universal appeal\, Sordid Lives promises an unforgettable evening of laughter\, tears\, and Southern charm. \nContains strong adult themes and language.
URL:https://www.connecticuttheatrecompany.org/event/sordid-lives-6/
LOCATION:The Repertory Theatre\, 23 Norden Street\, New Britain\, CT\, 06052\, United States
CATEGORIES:Play
ATTACH;FMTTYPE=image/png:https://www.connecticuttheatrecompany.org/wp-content/uploads/2025/10/Sordid-Lives-Logo.png
END:VEVENT
BEGIN:VEVENT
DTSTART;TZID=America/New_York:20260522T190000
DTEND;TZID=America/New_York:20260522T213000
DTSTAMP:20260425T111006
CREATED:20251224T183429Z
LAST-MODIFIED:20251224T183429Z
UID:6132-1779476400-1779485400@www.connecticuttheatrecompany.org
SUMMARY:The Prom
DESCRIPTION:Four eccentric Broadway stars are in desperate need of a new stage. So when they hear that trouble is brewing around a small-town prom\, they know that it’s time to put a spotlight on the issue… and themselves. The town’s parents want to keep the high school dance on the straight and narrow—but when one student just wants to bring her girlfriend to prom\, the entire town has a date with destiny. On a mission to make a difference\, the Broadway stars team up with the courageous student\, leading to a transformation that brings everyone together in the name of love and acceptance. \nWinner of the Drama Desk Award for Best Musical\, THE PROM expertly captures all the humor and heart of a classic musical comedy with a message that resonates with audiences now more than ever. Now a major Netflix movie\, The Prom continues to inspire and entertain with its blend of heart\, humor\, and show-stopping musical numbers that resonate with audiences of all ages. \nBook & Lyrics by CHAD BEGUELIN\nBook by BOB MARTIN\nMusic by MATTHEW SKLAR\nBased on an original concept by JACK VIERTEL \nTHE PROM is presented through special arrangement with and all authorized performance materials are supplied by Theatrical Rights Worldwide 1180 Avenue of the Americas\, Suite 640\, New York\, NY 10036. www.theatricalrights.com
URL:https://www.connecticuttheatrecompany.org/event/the-prom/
LOCATION:The Repertory Theatre\, 23 Norden Street\, New Britain\, CT\, 06052\, United States
CATEGORIES:Musical
ATTACH;FMTTYPE=image/png:https://www.connecticuttheatrecompany.org/wp-content/uploads/2025/10/The-Prom-Logo.png
END:VEVENT
BEGIN:VEVENT
DTSTART;TZID=America/New_York:20260523T190000
DTEND;TZID=America/New_York:20260523T213000
DTSTAMP:20260425T111006
CREATED:20251224T183515Z
LAST-MODIFIED:20251224T183515Z
UID:6134-1779562800-1779571800@www.connecticuttheatrecompany.org
SUMMARY:The Prom
DESCRIPTION:Four eccentric Broadway stars are in desperate need of a new stage. So when they hear that trouble is brewing around a small-town prom\, they know that it’s time to put a spotlight on the issue… and themselves. The town’s parents want to keep the high school dance on the straight and narrow—but when one student just wants to bring her girlfriend to prom\, the entire town has a date with destiny. On a mission to make a difference\, the Broadway stars team up with the courageous student\, leading to a transformation that brings everyone together in the name of love and acceptance. \nWinner of the Drama Desk Award for Best Musical\, THE PROM expertly captures all the humor and heart of a classic musical comedy with a message that resonates with audiences now more than ever. Now a major Netflix movie\, The Prom continues to inspire and entertain with its blend of heart\, humor\, and show-stopping musical numbers that resonate with audiences of all ages. \nBook & Lyrics by CHAD BEGUELIN\nBook by BOB MARTIN\nMusic by MATTHEW SKLAR\nBased on an original concept by JACK VIERTEL \nTHE PROM is presented through special arrangement with and all authorized performance materials are supplied by Theatrical Rights Worldwide 1180 Avenue of the Americas\, Suite 640\, New York\, NY 10036. www.theatricalrights.com
URL:https://www.connecticuttheatrecompany.org/event/the-prom-2/
LOCATION:The Repertory Theatre\, 23 Norden Street\, New Britain\, CT\, 06052\, United States
CATEGORIES:Musical
ATTACH;FMTTYPE=image/png:https://www.connecticuttheatrecompany.org/wp-content/uploads/2025/10/The-Prom-Logo.png
END:VEVENT
BEGIN:VEVENT
DTSTART;TZID=America/New_York:20260524T140000
DTEND;TZID=America/New_York:20260524T163000
DTSTAMP:20260425T111006
CREATED:20251224T183623Z
LAST-MODIFIED:20251224T183623Z
UID:6136-1779631200-1779640200@www.connecticuttheatrecompany.org
SUMMARY:The Prom
DESCRIPTION:Four eccentric Broadway stars are in desperate need of a new stage. So when they hear that trouble is brewing around a small-town prom\, they know that it’s time to put a spotlight on the issue… and themselves. The town’s parents want to keep the high school dance on the straight and narrow—but when one student just wants to bring her girlfriend to prom\, the entire town has a date with destiny. On a mission to make a difference\, the Broadway stars team up with the courageous student\, leading to a transformation that brings everyone together in the name of love and acceptance. \nWinner of the Drama Desk Award for Best Musical\, THE PROM expertly captures all the humor and heart of a classic musical comedy with a message that resonates with audiences now more than ever. Now a major Netflix movie\, The Prom continues to inspire and entertain with its blend of heart\, humor\, and show-stopping musical numbers that resonate with audiences of all ages. \nBook & Lyrics by CHAD BEGUELIN\nBook by BOB MARTIN\nMusic by MATTHEW SKLAR\nBased on an original concept by JACK VIERTEL \nTHE PROM is presented through special arrangement with and all authorized performance materials are supplied by Theatrical Rights Worldwide 1180 Avenue of the Americas\, Suite 640\, New York\, NY 10036. www.theatricalrights.com
URL:https://www.connecticuttheatrecompany.org/event/the-prom-3/
LOCATION:The Repertory Theatre\, 23 Norden Street\, New Britain\, CT\, 06052\, United States
CATEGORIES:Musical
ATTACH;FMTTYPE=image/png:https://www.connecticuttheatrecompany.org/wp-content/uploads/2025/10/The-Prom-Logo.png
END:VEVENT
BEGIN:VEVENT
DTSTART;TZID=America/New_York:20260529T190000
DTEND;TZID=America/New_York:20260529T213000
DTSTAMP:20260425T111006
CREATED:20251224T184104Z
LAST-MODIFIED:20251224T184104Z
UID:6138-1780081200-1780090200@www.connecticuttheatrecompany.org
SUMMARY:The Prom
DESCRIPTION:Four eccentric Broadway stars are in desperate need of a new stage. So when they hear that trouble is brewing around a small-town prom\, they know that it’s time to put a spotlight on the issue… and themselves. The town’s parents want to keep the high school dance on the straight and narrow—but when one student just wants to bring her girlfriend to prom\, the entire town has a date with destiny. On a mission to make a difference\, the Broadway stars team up with the courageous student\, leading to a transformation that brings everyone together in the name of love and acceptance. \nWinner of the Drama Desk Award for Best Musical\, THE PROM expertly captures all the humor and heart of a classic musical comedy with a message that resonates with audiences now more than ever. Now a major Netflix movie\, The Prom continues to inspire and entertain with its blend of heart\, humor\, and show-stopping musical numbers that resonate with audiences of all ages. \nBook & Lyrics by CHAD BEGUELIN\nBook by BOB MARTIN\nMusic by MATTHEW SKLAR\nBased on an original concept by JACK VIERTEL \nTHE PROM is presented through special arrangement with and all authorized performance materials are supplied by Theatrical Rights Worldwide 1180 Avenue of the Americas\, Suite 640\, New York\, NY 10036. www.theatricalrights.com
URL:https://www.connecticuttheatrecompany.org/event/the-prom-4/
LOCATION:The Repertory Theatre\, 23 Norden Street\, New Britain\, CT\, 06052\, United States
CATEGORIES:Musical
ATTACH;FMTTYPE=image/png:https://www.connecticuttheatrecompany.org/wp-content/uploads/2025/10/The-Prom-Logo.png
END:VEVENT
BEGIN:VEVENT
DTSTART;TZID=America/New_York:20260530T190000
DTEND;TZID=America/New_York:20260530T213000
DTSTAMP:20260425T111006
CREATED:20251224T184146Z
LAST-MODIFIED:20251224T184146Z
UID:6140-1780167600-1780176600@www.connecticuttheatrecompany.org
SUMMARY:The Prom
DESCRIPTION:Four eccentric Broadway stars are in desperate need of a new stage. So when they hear that trouble is brewing around a small-town prom\, they know that it’s time to put a spotlight on the issue… and themselves. The town’s parents want to keep the high school dance on the straight and narrow—but when one student just wants to bring her girlfriend to prom\, the entire town has a date with destiny. On a mission to make a difference\, the Broadway stars team up with the courageous student\, leading to a transformation that brings everyone together in the name of love and acceptance. \nWinner of the Drama Desk Award for Best Musical\, THE PROM expertly captures all the humor and heart of a classic musical comedy with a message that resonates with audiences now more than ever. Now a major Netflix movie\, The Prom continues to inspire and entertain with its blend of heart\, humor\, and show-stopping musical numbers that resonate with audiences of all ages. \nBook & Lyrics by CHAD BEGUELIN\nBook by BOB MARTIN\nMusic by MATTHEW SKLAR\nBased on an original concept by JACK VIERTEL \nTHE PROM is presented through special arrangement with and all authorized performance materials are supplied by Theatrical Rights Worldwide 1180 Avenue of the Americas\, Suite 640\, New York\, NY 10036. www.theatricalrights.com
URL:https://www.connecticuttheatrecompany.org/event/the-prom-5/
LOCATION:The Repertory Theatre\, 23 Norden Street\, New Britain\, CT\, 06052\, United States
CATEGORIES:Musical
ATTACH;FMTTYPE=image/png:https://www.connecticuttheatrecompany.org/wp-content/uploads/2025/10/The-Prom-Logo.png
END:VEVENT
BEGIN:VEVENT
DTSTART;TZID=America/New_York:20260531T140000
DTEND;TZID=America/New_York:20260531T163000
DTSTAMP:20260425T111006
CREATED:20251224T184222Z
LAST-MODIFIED:20251224T184222Z
UID:6142-1780236000-1780245000@www.connecticuttheatrecompany.org
SUMMARY:The Prom
DESCRIPTION:Four eccentric Broadway stars are in desperate need of a new stage. So when they hear that trouble is brewing around a small-town prom\, they know that it’s time to put a spotlight on the issue… and themselves. The town’s parents want to keep the high school dance on the straight and narrow—but when one student just wants to bring her girlfriend to prom\, the entire town has a date with destiny. On a mission to make a difference\, the Broadway stars team up with the courageous student\, leading to a transformation that brings everyone together in the name of love and acceptance. \nWinner of the Drama Desk Award for Best Musical\, THE PROM expertly captures all the humor and heart of a classic musical comedy with a message that resonates with audiences now more than ever. Now a major Netflix movie\, The Prom continues to inspire and entertain with its blend of heart\, humor\, and show-stopping musical numbers that resonate with audiences of all ages. \nBook & Lyrics by CHAD BEGUELIN\nBook by BOB MARTIN\nMusic by MATTHEW SKLAR\nBased on an original concept by JACK VIERTEL \nTHE PROM is presented through special arrangement with and all authorized performance materials are supplied by Theatrical Rights Worldwide 1180 Avenue of the Americas\, Suite 640\, New York\, NY 10036. www.theatricalrights.com
URL:https://www.connecticuttheatrecompany.org/event/the-prom-6/
LOCATION:The Repertory Theatre\, 23 Norden Street\, New Britain\, CT\, 06052\, United States
CATEGORIES:Musical
ATTACH;FMTTYPE=image/png:https://www.connecticuttheatrecompany.org/wp-content/uploads/2025/10/The-Prom-Logo.png
END:VEVENT
END:VCALENDAR