BEGIN:VCALENDAR
VERSION:2.0
PRODID:-//Connecticut Theatre Company - ECPv6.15.17.1//NONSGML v1.0//EN
CALSCALE:GREGORIAN
METHOD:PUBLISH
X-WR-CALNAME:Connecticut Theatre Company
X-ORIGINAL-URL:https://www.connecticuttheatrecompany.org
X-WR-CALDESC:Events for Connecticut Theatre Company
REFRESH-INTERVAL;VALUE=DURATION:PT1H
X-Robots-Tag:noindex
X-PUBLISHED-TTL:PT1H
BEGIN:VTIMEZONE
TZID:America/New_York
BEGIN:DAYLIGHT
TZOFFSETFROM:-0500
TZOFFSETTO:-0400
TZNAME:EDT
DTSTART:20250309T070000
END:DAYLIGHT
BEGIN:STANDARD
TZOFFSETFROM:-0400
TZOFFSETTO:-0500
TZNAME:EST
DTSTART:20251102T060000
END:STANDARD
BEGIN:DAYLIGHT
TZOFFSETFROM:-0500
TZOFFSETTO:-0400
TZNAME:EDT
DTSTART:20260308T070000
END:DAYLIGHT
BEGIN:STANDARD
TZOFFSETFROM:-0400
TZOFFSETTO:-0500
TZNAME:EST
DTSTART:20261101T060000
END:STANDARD
BEGIN:DAYLIGHT
TZOFFSETFROM:-0500
TZOFFSETTO:-0400
TZNAME:EDT
DTSTART:20270314T070000
END:DAYLIGHT
BEGIN:STANDARD
TZOFFSETFROM:-0400
TZOFFSETTO:-0500
TZNAME:EST
DTSTART:20271107T060000
END:STANDARD
END:VTIMEZONE
BEGIN:VEVENT
DTSTART;TZID=America/New_York:20260316T183000
DTEND;TZID=America/New_York:20260316T203000
DTSTAMP:20260423T124843
CREATED:20251224T183226Z
LAST-MODIFIED:20251224T183226Z
UID:6128-1773685800-1773693000@www.connecticuttheatrecompany.org
SUMMARY:The Prom Auditions
DESCRIPTION:What: Open auditions for The Prom at Connecticut Theatre Company \nWhen: 3/16/26 & 3/17/26 from 6:30pm – 8:30pm \nWhere: The Repertory Theatre | 23 Norden Street | New Britain\, CT 06051 \nRun Dates: 5/22/26-5/31/26 \nAudition Preparation: All roles are open for this terrific show. Looking for a very diverse cast. Actors will be seen in order of arrival. Prepare 16-32 bars of a musical theatre song in the style of the show. There will be a short dance routine taught at auditions suitable for all skill levels. Please bring sheet music in your key\, your resume and a headshot if you have one. An accompanist will be provided. A call back audition\, if needed\, will be held by invitation only. Age ranges listed are stage ages. If you have any questions\, please email us at info@connecticuttheatrecompany.org. \nDiversity\, Equity and Inclusion:\nConnecticut Theatre Company strives to be an inclusive and anti-racist organization. We welcome and encourage performers and team members of all colors\, genders/gender non-conformity\, body types and abilities to join us. We do not pre-cast our shows\, and we strive to cast our shows from the individuals who come to the audition. As such\, we strive to be as flexible and conscious with our casting as possible. In the spirit of preserving opportunities for actors who have traditionally been underserved by the entertainment community and allowing them to tell their own stories\, we will never cast a white/Caucasian actor in a role specifically written for a BIPOC (Black\, Indigenous\, and People of Color) actor\, nor a cisgender actor in a role specifically written for a transgender or non-binary/gender non-conforming actor. For any role written for a character with a specific disability or neurodivergence\, we will prioritize\, to the best of our abilities\, actors who are living that experience. \nAccessibility\nIf you will require any specific accommodations for this audition\, rehearsals or performances\, please reach out to one of the following individuals for assistance. We are eager to help you be able to get to us and to show us your best work! \nFor hearing\, vision\, physical disability\, or neurodivergence assistance as well as any other questions/concerns:\nDuane Campbell\, Executive Director\, dcampbell@connecticuttheatrecompany.org \nCharacter Breakdown: \nEMMA NOLAN — Teenager in Indiana. A reluctant poster child for LGBT youth. Very smart. A bit of a tomboy quality. \nALYSSA GREENE — A cheerleader and top student. Secretly Emma’s girlfriend. Faces constant pressure from her mother and friends. \nMR. HAWKINS — The straitlaced school principal. An ally to Emma and a long-time fan of Dee Dee. \nMRS. GREENE — Alyssa’s intimidating\, conservative\, but ultimately loving mother. The head of the PTA. \nSHELBY\, KAYLEE\, NICK\, KEVIN — Other students at school who bully (but eventually learn to accept) Emma. \nBARRY GLICKMAN — Flamboyant Broadway star. Completely politically incorrect and doesn’t know it. Longs to give Emma the prom he was unable to have as a teen. \nDEE DEE ALLEN — Broadway diva. A huge ego to match her huge talent. Hilariously self-involved but yearns to do something good for someone other than herself. \nTRENT OLIVER — Pretentious Juilliard graduate recently cast in the non-Equity tour of Godspell. Loves to hear himself speak. \nANGIE DICKINSON — An ensemble member in the Broadway production of Chicago. Jaded Fosse girl with a heart of gold. \nSHELDON — A charismatic press agent. \nEnsemble includes Olivia Keating\, Opening Night Party Attendees\, Reporters\, High School Students\, PTA Members\, Motel Clerk\, Cast of the Non-Equity Tour of Godspell\, Monster Truck Rally Audience\, Mrs. Greene’s Friend\, LGBT Students
URL:https://www.connecticuttheatrecompany.org/event/the-prom-auditions/
LOCATION:The Repertory Theatre\, 23 Norden Street\, New Britain\, CT\, 06052\, United States
CATEGORIES:Auditions
ATTACH;FMTTYPE=image/png:https://www.connecticuttheatrecompany.org/wp-content/uploads/2025/10/The-Prom-Logo.png
END:VEVENT
END:VCALENDAR